Package: RnBeads.mm9 Version: 1.39.0 Command: /home/biocbuild/bbs-3.21-bioc/R/bin/R CMD build --keep-empty-dirs --no-resave-data RnBeads.mm9 StartedAt: 2025-02-06 11:36:50 -0500 (Thu, 06 Feb 2025) EndedAt: 2025-02-06 11:36:56 -0500 (Thu, 06 Feb 2025) EllapsedTime: 6.1 seconds RetCode: 0 Status: OK PackageFile: RnBeads.mm9_1.39.0.tar.gz PackageFileSize: 94.41 MiB