Package: RnBeads.mm9 Version: 1.39.0 Command: /home/biocbuild/bbs-3.21-bioc/R/bin/R CMD check --install=check:RnBeads.mm9.install-out.txt --library=/home/biocbuild/bbs-3.21-bioc/R/site-library --timings RnBeads.mm9_1.39.0.tar.gz StartedAt: 2025-02-04 12:35:55 -0500 (Tue, 04 Feb 2025) EndedAt: 2025-02-04 12:38:05 -0500 (Tue, 04 Feb 2025) EllapsedTime: 129.7 seconds RetCode: 0 Status: OK CheckDir: RnBeads.mm9.Rcheck Warnings: 0