Package: RnBeads.mm9 Version: 1.39.0 Command: /home/biocbuild/bbs-3.21-bioc/R/bin/R CMD INSTALL RnBeads.mm9 StartedAt: 2025-02-06 10:58:03 -0500 (Thu, 06 Feb 2025) EndedAt: 2025-02-06 10:58:11 -0500 (Thu, 06 Feb 2025) EllapsedTime: 7.9 seconds RetCode: 0 Status: OK