Package: RnBeads.rn5 Version: 1.39.0 Command: /home/biocbuild/bbs-3.21-bioc/R/bin/R CMD INSTALL RnBeads.rn5 StartedAt: 2025-02-06 10:58:00 -0500 (Thu, 06 Feb 2025) EndedAt: 2025-02-06 10:58:09 -0500 (Thu, 06 Feb 2025) EllapsedTime: 8.3 seconds RetCode: 0 Status: OK