Package: SBGNview.data Version: 1.21.0 Command: /home/biocbuild/bbs-3.21-bioc/R/bin/R CMD build --keep-empty-dirs --no-resave-data SBGNview.data StartedAt: 2025-02-06 11:37:48 -0500 (Thu, 06 Feb 2025) EndedAt: 2025-02-06 11:38:34 -0500 (Thu, 06 Feb 2025) EllapsedTime: 45.0 seconds RetCode: 0 Status: OK PackageFile: SBGNview.data_1.21.0.tar.gz PackageFileSize: 65.91 MiB