Package: SFEData Version: 1.9.1 Command: /home/biocbuild/bbs-3.21-bioc/R/bin/R CMD build --keep-empty-dirs --no-resave-data SFEData StartedAt: 2025-02-06 11:39:31 -0500 (Thu, 06 Feb 2025) EndedAt: 2025-02-06 11:40:09 -0500 (Thu, 06 Feb 2025) EllapsedTime: 38.8 seconds RetCode: 0 Status: OK PackageFile: SFEData_1.9.1.tar.gz PackageFileSize: 256.9 KiB