Package: SNAData Version: 1.53.0 Command: /home/biocbuild/bbs-3.21-bioc/R/bin/R CMD INSTALL SNAData StartedAt: 2025-02-13 10:56:28 -0500 (Thu, 13 Feb 2025) EndedAt: 2025-02-13 10:56:31 -0500 (Thu, 13 Feb 2025) EllapsedTime: 2.9 seconds RetCode: 0 Status: OK