Package: SNPhoodData Version: 1.37.0 Maintainer: Christian Arnold MaintainerEmail: christian.arnold at embl.de git_url: https://git.bioconductor.org/packages/SNPhoodData git_branch: devel git_last_commit: 3f50936 git_last_commit_date: 2024-10-29 09:42:36 -0500 (Tue, 29 Oct 2024)