Package: SNPhoodData Version: 1.37.0 Command: /home/biocbuild/bbs-3.21-bioc/R/bin/R CMD build --keep-empty-dirs --no-resave-data SNPhoodData StartedAt: 2025-02-06 11:40:15 -0500 (Thu, 06 Feb 2025) EndedAt: 2025-02-06 11:40:33 -0500 (Thu, 06 Feb 2025) EllapsedTime: 17.7 seconds RetCode: 0 Status: OK PackageFile: SNPhoodData_1.37.0.tar.gz PackageFileSize: 233.5 MiB