Package: SNPhoodData Version: 1.37.0 Command: /home/biocbuild/bbs-3.21-bioc/R/bin/R CMD check --install=check:SNPhoodData.install-out.txt --library=/home/biocbuild/bbs-3.21-bioc/R/site-library --timings SNPhoodData_1.37.0.tar.gz StartedAt: 2025-02-06 12:42:57 -0500 (Thu, 06 Feb 2025) EndedAt: 2025-02-06 12:43:19 -0500 (Thu, 06 Feb 2025) EllapsedTime: 21.9 seconds RetCode: 0 Status: OK CheckDir: SNPhoodData.Rcheck Warnings: 0