Package: SingleMoleculeFootprintingData Version: 1.15.0 Command: /home/biocbuild/bbs-3.21-bioc/R/bin/R CMD check --install=check:SingleMoleculeFootprintingData.install-out.txt --library=/home/biocbuild/bbs-3.21-bioc/R/site-library --timings SingleMoleculeFootprintingData_1.15.0.tar.gz StartedAt: 2025-02-06 12:42:21 -0500 (Thu, 06 Feb 2025) EndedAt: 2025-02-06 12:44:03 -0500 (Thu, 06 Feb 2025) EllapsedTime: 101.8 seconds RetCode: 0 Status: OK CheckDir: SingleMoleculeFootprintingData.Rcheck Warnings: 0