Package: SingleMoleculeFootprintingData Version: 1.15.0 Command: /home/biocbuild/bbs-3.21-bioc/R/bin/R CMD INSTALL SingleMoleculeFootprintingData StartedAt: 2025-02-06 10:57:18 -0500 (Thu, 06 Feb 2025) EndedAt: 2025-02-06 10:57:27 -0500 (Thu, 06 Feb 2025) EllapsedTime: 9.1 seconds RetCode: 0 Status: OK