Package: SomaticCancerAlterations Version: 1.43.0 Command: /home/biocbuild/bbs-3.21-bioc/R/bin/R CMD INSTALL SomaticCancerAlterations StartedAt: 2025-02-13 10:57:56 -0500 (Thu, 13 Feb 2025) EndedAt: 2025-02-13 10:58:03 -0500 (Thu, 13 Feb 2025) EllapsedTime: 7.7 seconds RetCode: 0 Status: OK