Package: SpikeIn Version: 1.49.0 Command: /home/biocbuild/bbs-3.21-bioc/R/bin/R CMD check --install=check:SpikeIn.install-out.txt --library=/home/biocbuild/bbs-3.21-bioc/R/site-library --timings SpikeIn_1.49.0.tar.gz StartedAt: 2025-02-06 12:44:03 -0500 (Thu, 06 Feb 2025) EndedAt: 2025-02-06 12:44:40 -0500 (Thu, 06 Feb 2025) EllapsedTime: 37.3 seconds RetCode: 0 Status: OK CheckDir: SpikeIn.Rcheck Warnings: 0