Package: SpikeInSubset Version: 1.47.0 Command: /home/biocbuild/bbs-3.21-bioc/R/bin/R CMD build --keep-empty-dirs --no-resave-data SpikeInSubset StartedAt: 2025-02-06 11:40:38 -0500 (Thu, 06 Feb 2025) EndedAt: 2025-02-06 11:40:42 -0500 (Thu, 06 Feb 2025) EllapsedTime: 4.0 seconds RetCode: 0 Status: OK PackageFile: SpikeInSubset_1.47.0.tar.gz PackageFileSize: 17.99 MiB