Package: TBX20BamSubset Version: 1.43.0 Command: /home/biocbuild/bbs-3.21-bioc/R/bin/R CMD build --keep-empty-dirs --no-resave-data TBX20BamSubset StartedAt: 2025-02-13 11:42:17 -0500 (Thu, 13 Feb 2025) EndedAt: 2025-02-13 11:42:40 -0500 (Thu, 13 Feb 2025) EllapsedTime: 23.0 seconds RetCode: 0 Status: OK PackageFile: TBX20BamSubset_1.43.0.tar.gz PackageFileSize: 94.74 MiB