Package: TCGAcrcmRNA Version: 1.27.0 Maintainer: Claudio Isella MaintainerEmail: claudio.isella at ircc.it git_url: https://git.bioconductor.org/packages/TCGAcrcmRNA git_branch: devel git_last_commit: cc827ef git_last_commit_date: 2024-10-29 09:39:53 -0500 (Tue, 29 Oct 2024)