Package: TCGAcrcmRNA Version: 1.27.0 Command: /home/biocbuild/bbs-3.21-bioc/R/bin/R CMD build --keep-empty-dirs --no-resave-data TCGAcrcmRNA StartedAt: 2025-02-04 11:42:18 -0500 (Tue, 04 Feb 2025) EndedAt: 2025-02-04 11:42:29 -0500 (Tue, 04 Feb 2025) EllapsedTime: 11.0 seconds RetCode: 0 Status: OK PackageFile: TCGAcrcmRNA_1.27.0.tar.gz PackageFileSize: 35.3 MiB