Package: TCGAcrcmRNA Version: 1.27.0 Command: /home/biocbuild/bbs-3.21-bioc/R/bin/R CMD check --install=check:TCGAcrcmRNA.install-out.txt --library=/home/biocbuild/bbs-3.21-bioc/R/site-library --timings TCGAcrcmRNA_1.27.0.tar.gz StartedAt: 2025-02-06 12:47:50 -0500 (Thu, 06 Feb 2025) EndedAt: 2025-02-06 12:48:20 -0500 (Thu, 06 Feb 2025) EllapsedTime: 29.3 seconds RetCode: 0 Status: OK CheckDir: TCGAcrcmRNA.Rcheck Warnings: 0