Package: TCGAcrcmRNA Version: 1.27.0 Command: /home/biocbuild/bbs-3.21-bioc/R/bin/R CMD INSTALL TCGAcrcmRNA StartedAt: 2025-02-06 10:56:08 -0500 (Thu, 06 Feb 2025) EndedAt: 2025-02-06 10:56:10 -0500 (Thu, 06 Feb 2025) EllapsedTime: 1.8 seconds RetCode: 0 Status: OK