Package: TENxVisiumData Version: 1.15.0 Command: /home/biocbuild/bbs-3.21-bioc/R/bin/R CMD INSTALL TENxVisiumData StartedAt: 2025-02-06 10:58:51 -0500 (Thu, 06 Feb 2025) EndedAt: 2025-02-06 10:59:20 -0500 (Thu, 06 Feb 2025) EllapsedTime: 28.7 seconds RetCode: 0 Status: OK