Package: TENxXeniumData Version: 1.3.0 Command: /home/biocbuild/bbs-3.21-bioc/R/bin/R CMD build --keep-empty-dirs --no-resave-data TENxXeniumData StartedAt: 2025-02-04 11:42:35 -0500 (Tue, 04 Feb 2025) EndedAt: 2025-02-04 11:45:12 -0500 (Tue, 04 Feb 2025) EllapsedTime: 156.9 seconds RetCode: 0 Status: OK PackageFile: TENxXeniumData_1.3.0.tar.gz PackageFileSize: 224.9 KiB