Package: TENxXeniumData Version: 1.3.0 Command: /home/biocbuild/bbs-3.21-bioc/R/bin/R CMD INSTALL TENxXeniumData StartedAt: 2025-02-06 11:02:47 -0500 (Thu, 06 Feb 2025) EndedAt: 2025-02-06 11:03:41 -0500 (Thu, 06 Feb 2025) EllapsedTime: 53.5 seconds RetCode: 0 Status: OK