Package: TargetScoreData Version: 1.43.0 Command: /home/biocbuild/bbs-3.21-bioc/R/bin/R CMD build --keep-empty-dirs --no-resave-data TargetScoreData StartedAt: 2025-02-06 11:41:07 -0500 (Thu, 06 Feb 2025) EndedAt: 2025-02-06 11:41:43 -0500 (Thu, 06 Feb 2025) EllapsedTime: 35.7 seconds RetCode: 0 Status: OK PackageFile: TargetScoreData_1.43.0.tar.gz PackageFileSize: 206.2 MiB