Package: TargetScoreData Version: 1.43.0 Command: /home/biocbuild/bbs-3.21-bioc/R/bin/R CMD check --install=check:TargetScoreData.install-out.txt --library=/home/biocbuild/bbs-3.21-bioc/R/site-library --timings TargetScoreData_1.43.0.tar.gz StartedAt: 2025-02-06 12:46:25 -0500 (Thu, 06 Feb 2025) EndedAt: 2025-02-06 12:47:06 -0500 (Thu, 06 Feb 2025) EllapsedTime: 40.9 seconds RetCode: 0 Status: OK CheckDir: TargetScoreData.Rcheck Warnings: 0