Package: TransOmicsData Version: 1.3.0 Command: /home/biocbuild/bbs-3.21-bioc/R/bin/R CMD check --install=check:TransOmicsData.install-out.txt --library=/home/biocbuild/bbs-3.21-bioc/R/site-library --timings TransOmicsData_1.3.0.tar.gz StartedAt: 2025-02-06 12:52:03 -0500 (Thu, 06 Feb 2025) EndedAt: 2025-02-06 12:52:44 -0500 (Thu, 06 Feb 2025) EllapsedTime: 40.6 seconds RetCode: 0 Status: OK CheckDir: TransOmicsData.Rcheck Warnings: 0