Package: WeberDivechaLCdata Version: 1.9.0 Command: /home/biocbuild/bbs-3.21-bioc/R/bin/R CMD check --install=check:WeberDivechaLCdata.install-out.txt --library=/home/biocbuild/bbs-3.21-bioc/R/site-library --timings WeberDivechaLCdata_1.9.0.tar.gz StartedAt: 2025-02-06 12:53:47 -0500 (Thu, 06 Feb 2025) EndedAt: 2025-02-06 12:58:48 -0500 (Thu, 06 Feb 2025) EllapsedTime: 301.3 seconds RetCode: 0 Status: OK CheckDir: WeberDivechaLCdata.Rcheck Warnings: 0