Package: XhybCasneuf Version: 1.45.0 Command: /home/biocbuild/bbs-3.21-bioc/R/bin/R CMD build --keep-empty-dirs --no-resave-data XhybCasneuf StartedAt: 2025-02-06 11:44:44 -0500 (Thu, 06 Feb 2025) EndedAt: 2025-02-06 11:45:04 -0500 (Thu, 06 Feb 2025) EllapsedTime: 19.3 seconds RetCode: 0 Status: OK PackageFile: XhybCasneuf_1.45.0.tar.gz PackageFileSize: 3.37 MiB