Package: XhybCasneuf Version: 1.45.0 Command: /home/biocbuild/bbs-3.21-bioc/R/bin/R CMD INSTALL XhybCasneuf StartedAt: 2025-02-06 10:57:16 -0500 (Thu, 06 Feb 2025) EndedAt: 2025-02-06 10:57:28 -0500 (Thu, 06 Feb 2025) EllapsedTime: 12.2 seconds RetCode: 0 Status: OK