Package: adductData Version: 1.23.0 Command: /home/biocbuild/bbs-3.21-bioc/R/bin/R CMD build --keep-empty-dirs --no-resave-data adductData StartedAt: 2025-02-06 11:07:16 -0500 (Thu, 06 Feb 2025) EndedAt: 2025-02-06 11:07:26 -0500 (Thu, 06 Feb 2025) EllapsedTime: 10.4 seconds RetCode: 0 Status: OK PackageFile: adductData_1.23.0.tar.gz PackageFileSize: 7.57 KiB