Package: adductData Version: 1.23.0 Command: /home/biocbuild/bbs-3.21-bioc/R/bin/R CMD INSTALL adductData StartedAt: 2025-02-06 10:57:06 -0500 (Thu, 06 Feb 2025) EndedAt: 2025-02-06 10:57:16 -0500 (Thu, 06 Feb 2025) EllapsedTime: 9.3 seconds RetCode: 0 Status: OK