Package: affycompData Version: 1.45.0 Command: /home/biocbuild/bbs-3.21-bioc/R/bin/R CMD INSTALL affycompData StartedAt: 2025-02-06 10:56:17 -0500 (Thu, 06 Feb 2025) EndedAt: 2025-02-06 10:56:22 -0500 (Thu, 06 Feb 2025) EllapsedTime: 4.8 seconds RetCode: 0 Status: OK