Package: affydata Version: 1.55.0 Command: /home/biocbuild/bbs-3.21-bioc/R/bin/R CMD build --keep-empty-dirs --no-resave-data affydata StartedAt: 2025-02-06 11:07:16 -0500 (Thu, 06 Feb 2025) EndedAt: 2025-02-06 11:07:40 -0500 (Thu, 06 Feb 2025) EllapsedTime: 24.5 seconds RetCode: 0 Status: OK PackageFile: affydata_1.55.0.tar.gz PackageFileSize: 12.21 MiB