Package: antiProfilesData Version: 1.43.0 Command: /home/biocbuild/bbs-3.21-bioc/R/bin/R CMD INSTALL antiProfilesData StartedAt: 2025-02-13 10:56:07 -0500 (Thu, 13 Feb 2025) EndedAt: 2025-02-13 10:56:10 -0500 (Thu, 13 Feb 2025) EllapsedTime: 3.0 seconds RetCode: 0 Status: OK