Package: aracne.networks Version: 1.33.0 Command: /home/biocbuild/bbs-3.21-bioc/R/bin/R CMD check --install=check:aracne.networks.install-out.txt --library=/home/biocbuild/bbs-3.21-bioc/R/site-library --timings aracne.networks_1.33.0.tar.gz StartedAt: 2025-02-11 11:47:24 -0500 (Tue, 11 Feb 2025) EndedAt: 2025-02-11 11:55:28 -0500 (Tue, 11 Feb 2025) EllapsedTime: 483.8 seconds RetCode: 0 Status: WARNINGS CheckDir: aracne.networks.Rcheck Warnings: 2