Package: aracne.networks Version: 1.33.0 Command: /home/biocbuild/bbs-3.21-bioc/R/bin/R CMD INSTALL aracne.networks StartedAt: 2025-02-11 10:57:50 -0500 (Tue, 11 Feb 2025) EndedAt: 2025-02-11 10:58:25 -0500 (Tue, 11 Feb 2025) EllapsedTime: 35.4 seconds RetCode: 0 Status: OK