Package: beadarrayExampleData Version: 1.45.0 Command: /home/biocbuild/bbs-3.21-bioc/R/bin/R CMD build --keep-empty-dirs --no-resave-data beadarrayExampleData StartedAt: 2025-02-06 11:07:31 -0500 (Thu, 06 Feb 2025) EndedAt: 2025-02-06 11:07:56 -0500 (Thu, 06 Feb 2025) EllapsedTime: 25.2 seconds RetCode: 0 Status: OK PackageFile: beadarrayExampleData_1.45.0.tar.gz PackageFileSize: 29.96 MiB