Package: beadarrayExampleData Version: 1.45.0 Command: /home/biocbuild/bbs-3.21-bioc/R/bin/R CMD INSTALL beadarrayExampleData StartedAt: 2025-02-06 10:57:59 -0500 (Thu, 06 Feb 2025) EndedAt: 2025-02-06 10:58:09 -0500 (Thu, 06 Feb 2025) EllapsedTime: 10.0 seconds RetCode: 0 Status: OK