Package: beta7 Version: 1.45.0 Command: /home/biocbuild/bbs-3.21-bioc/R/bin/R CMD build --keep-empty-dirs --no-resave-data beta7 StartedAt: 2025-02-04 11:07:44 -0500 (Tue, 04 Feb 2025) EndedAt: 2025-02-04 11:07:52 -0500 (Tue, 04 Feb 2025) EllapsedTime: 8.0 seconds RetCode: 0 Status: OK PackageFile: beta7_1.45.0.tar.gz PackageFileSize: 15.18 MiB