Package: beta7 Version: 1.45.0 Command: /home/biocbuild/bbs-3.21-bioc/R/bin/R CMD check --install=check:beta7.install-out.txt --library=/home/biocbuild/bbs-3.21-bioc/R/site-library --timings beta7_1.45.0.tar.gz StartedAt: 2025-02-06 11:47:13 -0500 (Thu, 06 Feb 2025) EndedAt: 2025-02-06 11:47:28 -0500 (Thu, 06 Feb 2025) EllapsedTime: 14.6 seconds RetCode: 0 Status: WARNINGS CheckDir: beta7.Rcheck Warnings: 2