Package: beta7 Version: 1.45.0 Command: /home/biocbuild/bbs-3.21-bioc/R/bin/R CMD INSTALL beta7 StartedAt: 2025-02-04 10:56:27 -0500 (Tue, 04 Feb 2025) EndedAt: 2025-02-04 10:56:30 -0500 (Tue, 04 Feb 2025) EllapsedTime: 2.8 seconds RetCode: 0 Status: OK