Package: bladderbatch Version: 1.45.0 Command: /home/biocbuild/bbs-3.21-bioc/R/bin/R CMD check --install=check:bladderbatch.install-out.txt --library=/home/biocbuild/bbs-3.21-bioc/R/site-library --timings bladderbatch_1.45.0.tar.gz StartedAt: 2025-02-06 11:47:24 -0500 (Thu, 06 Feb 2025) EndedAt: 2025-02-06 11:47:49 -0500 (Thu, 06 Feb 2025) EllapsedTime: 25.5 seconds RetCode: 0 Status: WARNINGS CheckDir: bladderbatch.Rcheck Warnings: 1