Package: blimaTestingData Version: 1.27.0 Command: /home/biocbuild/bbs-3.21-bioc/R/bin/R CMD build --keep-empty-dirs --no-resave-data blimaTestingData StartedAt: 2025-02-04 11:07:52 -0500 (Tue, 04 Feb 2025) EndedAt: 2025-02-04 11:08:34 -0500 (Tue, 04 Feb 2025) EllapsedTime: 41.2 seconds RetCode: 0 Status: OK PackageFile: blimaTestingData_1.27.0.tar.gz PackageFileSize: 98.28 MiB