Package: bodymapRat Version: 1.23.0 Command: /home/biocbuild/bbs-3.21-bioc/R/bin/R CMD build --keep-empty-dirs --no-resave-data bodymapRat StartedAt: 2025-02-06 11:07:56 -0500 (Thu, 06 Feb 2025) EndedAt: 2025-02-06 11:08:40 -0500 (Thu, 06 Feb 2025) EllapsedTime: 43.5 seconds RetCode: 0 Status: OK PackageFile: bodymapRat_1.23.0.tar.gz PackageFileSize: 299.2 KiB