Package: bodymapRat Version: 1.23.0 Command: /home/biocbuild/bbs-3.21-bioc/R/bin/R CMD check --install=check:bodymapRat.install-out.txt --library=/home/biocbuild/bbs-3.21-bioc/R/site-library --timings bodymapRat_1.23.0.tar.gz StartedAt: 2025-02-13 11:48:07 -0500 (Thu, 13 Feb 2025) EndedAt: 2025-02-13 11:51:36 -0500 (Thu, 13 Feb 2025) EllapsedTime: 208.9 seconds RetCode: 0 Status: OK CheckDir: bodymapRat.Rcheck Warnings: 0