Package: bodymapRat Version: 1.23.0 Command: /home/biocbuild/bbs-3.21-bioc/R/bin/R CMD INSTALL bodymapRat StartedAt: 2025-02-06 11:00:02 -0500 (Thu, 06 Feb 2025) EndedAt: 2025-02-06 11:00:28 -0500 (Thu, 06 Feb 2025) EllapsedTime: 25.3 seconds RetCode: 0 Status: OK