Package: breastCancerMAINZ Version: 1.45.0 Command: /home/biocbuild/bbs-3.21-bioc/R/bin/R CMD build --keep-empty-dirs --no-resave-data breastCancerMAINZ StartedAt: 2025-02-13 11:08:21 -0500 (Thu, 13 Feb 2025) EndedAt: 2025-02-13 11:08:26 -0500 (Thu, 13 Feb 2025) EllapsedTime: 4.6 seconds RetCode: 0 Status: OK PackageFile: breastCancerMAINZ_1.45.0.tar.gz PackageFileSize: 34.8 MiB