Package: breastCancerMAINZ Version: 1.45.0 Command: /home/biocbuild/bbs-3.21-bioc/R/bin/R CMD check --install=check:breastCancerMAINZ.install-out.txt --library=/home/biocbuild/bbs-3.21-bioc/R/site-library --timings breastCancerMAINZ_1.45.0.tar.gz StartedAt: 2025-02-06 11:47:39 -0500 (Thu, 06 Feb 2025) EndedAt: 2025-02-06 11:48:30 -0500 (Thu, 06 Feb 2025) EllapsedTime: 51.2 seconds RetCode: 0 Status: WARNINGS CheckDir: breastCancerMAINZ.Rcheck Warnings: 1