Package: breastCancerUNT Version: 1.45.0 Command: /home/biocbuild/bbs-3.21-bioc/R/bin/R CMD build --keep-empty-dirs --no-resave-data breastCancerUNT StartedAt: 2025-02-13 11:08:26 -0500 (Thu, 13 Feb 2025) EndedAt: 2025-02-13 11:08:31 -0500 (Thu, 13 Feb 2025) EllapsedTime: 4.9 seconds RetCode: 0 Status: OK PackageFile: breastCancerUNT_1.45.0.tar.gz PackageFileSize: 48.32 MiB