Package: breastCancerVDX Version: 1.45.0 Command: /home/biocbuild/bbs-3.21-bioc/R/bin/R CMD INSTALL breastCancerVDX StartedAt: 2025-02-13 10:55:16 -0500 (Thu, 13 Feb 2025) EndedAt: 2025-02-13 10:55:18 -0500 (Thu, 13 Feb 2025) EllapsedTime: 2.5 seconds RetCode: 0 Status: OK